BEGIN:VCALENDAR
VERSION:2.0
PRODID:-//Bethany School - ECPv6.15.20//NONSGML v1.0//EN
CALSCALE:GREGORIAN
METHOD:PUBLISH
X-WR-CALNAME:Bethany School
X-ORIGINAL-URL:https://bethanyschool.org
X-WR-CALDESC:Events for Bethany School
REFRESH-INTERVAL;VALUE=DURATION:PT1H
X-Robots-Tag:noindex
X-PUBLISHED-TTL:PT1H
BEGIN:VTIMEZONE
TZID:America/New_York
BEGIN:DAYLIGHT
TZOFFSETFROM:-0500
TZOFFSETTO:-0400
TZNAME:EDT
DTSTART:20230312T070000
END:DAYLIGHT
BEGIN:STANDARD
TZOFFSETFROM:-0400
TZOFFSETTO:-0500
TZNAME:EST
DTSTART:20231105T060000
END:STANDARD
BEGIN:DAYLIGHT
TZOFFSETFROM:-0500
TZOFFSETTO:-0400
TZNAME:EDT
DTSTART:20240310T070000
END:DAYLIGHT
BEGIN:STANDARD
TZOFFSETFROM:-0400
TZOFFSETTO:-0500
TZNAME:EST
DTSTART:20241103T060000
END:STANDARD
BEGIN:DAYLIGHT
TZOFFSETFROM:-0500
TZOFFSETTO:-0400
TZNAME:EDT
DTSTART:20250309T070000
END:DAYLIGHT
BEGIN:STANDARD
TZOFFSETFROM:-0400
TZOFFSETTO:-0500
TZNAME:EST
DTSTART:20251102T060000
END:STANDARD
END:VTIMEZONE
BEGIN:VEVENT
DTSTART;TZID=America/New_York:20241016T190000
DTEND;TZID=America/New_York:20241016T200000
DTSTAMP:20260420T042230
CREATED:20241004T145745Z
LAST-MODIFIED:20241016T155511Z
UID:7207-1729105200-1729108800@bethanyschool.org
SUMMARY:ISSE Ecuador pmaquilon@cenu.edu.ecInformational Meeting
DESCRIPTION:Join with Google Meet: https://meet.google.com/doa-wzfj-exd\nLearn more about Meet at: https://support.google.com/a/users/answer/9282720
URL:https://bethanyschool.org/event/isse-ecuador-pmaquiloncenu-edu-ecinformational-meeting/
END:VEVENT
BEGIN:VEVENT
DTSTART;TZID=America/New_York:20241016T190000
DTEND;TZID=America/New_York:20241016T200000
DTSTAMP:20260420T042230
CREATED:20240926T143958Z
LAST-MODIFIED:20241003T145401Z
UID:7167-1729105200-1729108800@bethanyschool.org
SUMMARY:ISSE Ecuador Informational Meeting
DESCRIPTION:Join with Google Meet: https://meet.google.com/doa-wzfj-exd\nLearn more about Meet at: https://support.google.com/a/users/answer/9282720
URL:https://bethanyschool.org/event/isse-ecuador-informational-meeting/
END:VEVENT
BEGIN:VEVENT
DTSTART;TZID=America/New_York:20241016T180000
DTEND;TZID=America/New_York:20241016T190000
DTSTAMP:20260420T042230
CREATED:20241004T145744Z
LAST-MODIFIED:20241016T155511Z
UID:7206-1729101600-1729105200@bethanyschool.org
SUMMARY:Girl Scout Meeting\, Gr. K-4
DESCRIPTION:
URL:https://bethanyschool.org/event/girl-scout-meeting-gr-k-4/
LOCATION:Dining Hall-1-Dining Hall (90)
END:VEVENT
BEGIN:VEVENT
DTSTART;TZID=America/New_York:20241016T150000
DTEND;TZID=America/New_York:20241016T163000
DTSTAMP:20260420T042230
CREATED:20240911T134127Z
LAST-MODIFIED:20241016T155511Z
UID:6884-1729090800-1729096200@bethanyschool.org
SUMMARY:Girls on the Run (Gr. 3-5th)
DESCRIPTION:
URL:https://bethanyschool.org/event/girls-on-the-run-gr-3-5th-10/
END:VEVENT
BEGIN:VEVENT
DTSTART;TZID=America/New_York:20241016T150000
DTEND;TZID=America/New_York:20241016T160000
DTSTAMP:20260420T042230
CREATED:20240911T134127Z
LAST-MODIFIED:20241016T155511Z
UID:6882-1729090800-1729094400@bethanyschool.org
SUMMARY:Karate Club (Gr. K-8)
DESCRIPTION:
URL:https://bethanyschool.org/event/karate-club-gr-k-8-5/
END:VEVENT
BEGIN:VEVENT
DTSTART;TZID=America/New_York:20241016T150000
DTEND;TZID=America/New_York:20241016T160000
DTSTAMP:20260420T042230
CREATED:20240911T134127Z
LAST-MODIFIED:20241016T155511Z
UID:6883-1729090800-1729094400@bethanyschool.org
SUMMARY:Power of the Pen (Gr. 6-8th)
DESCRIPTION:
URL:https://bethanyschool.org/event/power-of-the-pen-gr-6-8th-4/
END:VEVENT
BEGIN:VEVENT
DTSTART;TZID=America/New_York:20241016T083000
DTEND;TZID=America/New_York:20241016T103000
DTSTAMP:20260420T042230
CREATED:20240911T134127Z
LAST-MODIFIED:20241015T153909Z
UID:6881-1729067400-1729074600@bethanyschool.org
SUMMARY:Gr. K Field Trip- Glendale Fire Dept
DESCRIPTION:
URL:https://bethanyschool.org/event/gr-k-field-trip-glendale-fire-dept/
END:VEVENT
BEGIN:VEVENT
DTSTART;TZID=America/New_York:20241015T081500
DTEND;TZID=America/New_York:20241015T170000
DTSTAMP:20260420T042230
CREATED:20240911T134126Z
LAST-MODIFIED:20241015T153909Z
UID:6877-1728980100-1729011600@bethanyschool.org
SUMMARY:Gr. 7 & 8 Field Trip- Camp Joy
DESCRIPTION:
URL:https://bethanyschool.org/event/tentative-middle-school-field-trip/
END:VEVENT
BEGIN:VEVENT
DTSTART;TZID=America/New_York:20241015T080500
DTEND;TZID=America/New_York:20241015T084500
DTSTAMP:20260420T042230
CREATED:20240911T134127Z
LAST-MODIFIED:20241014T154008Z
UID:6880-1728979500-1728981900@bethanyschool.org
SUMMARY:Gr K-4 Chapel in Chapel of Transfiguration
DESCRIPTION:
URL:https://bethanyschool.org/event/gr-k-4-chapel-in-chapel-of-transfiguration-20/
END:VEVENT
BEGIN:VEVENT
DTSTART;VALUE=DATE:20241015
DTEND;VALUE=DATE:20241016
DTSTAMP:20260420T042230
CREATED:20240911T134126Z
LAST-MODIFIED:20241015T153909Z
UID:6876-1728950400-1729036799@bethanyschool.org
SUMMARY:School Resumes
DESCRIPTION:
URL:https://bethanyschool.org/event/school-resumes-3/
END:VEVENT
BEGIN:VEVENT
DTSTART;TZID=America/New_York:20241014T151500
DTEND;TZID=America/New_York:20241014T160000
DTSTAMP:20260420T042230
CREATED:20240911T134126Z
LAST-MODIFIED:20241014T154008Z
UID:6875-1728918900-1728921600@bethanyschool.org
SUMMARY:Bethany Singers (Gr. 2nd-8th)
DESCRIPTION:
URL:https://bethanyschool.org/event/bethany-singers-gr-2nd-8th-5/
END:VEVENT
BEGIN:VEVENT
DTSTART;TZID=America/New_York:20241014T150000
DTEND;TZID=America/New_York:20241014T163000
DTSTAMP:20260420T042230
CREATED:20240911T134127Z
LAST-MODIFIED:20241014T154008Z
UID:6879-1728918000-1728923400@bethanyschool.org
SUMMARY:Girls on the Run (Gr. 3-5th)
DESCRIPTION:
URL:https://bethanyschool.org/event/girls-on-the-run-gr-3-5th-9/
END:VEVENT
BEGIN:VEVENT
DTSTART;VALUE=DATE:20241014
DTEND;VALUE=DATE:20241015
DTSTAMP:20260420T042230
CREATED:20240911T134127Z
LAST-MODIFIED:20241014T154008Z
UID:6878-1728864000-1728950399@bethanyschool.org
SUMMARY:No School
DESCRIPTION:
URL:https://bethanyschool.org/event/no-school-14/
END:VEVENT
BEGIN:VEVENT
DTSTART;VALUE=DATE:20241011
DTEND;VALUE=DATE:20241012
DTSTAMP:20260420T042230
CREATED:20240911T134126Z
LAST-MODIFIED:20241011T153919Z
UID:6873-1728604800-1728691199@bethanyschool.org
SUMMARY:No School
DESCRIPTION:
URL:https://bethanyschool.org/event/no-school-12/
END:VEVENT
BEGIN:VEVENT
DTSTART;VALUE=DATE:20241010
DTEND;VALUE=DATE:20241011
DTSTAMP:20260420T042230
CREATED:20240911T134126Z
LAST-MODIFIED:20241010T153922Z
UID:6872-1728518400-1728604799@bethanyschool.org
SUMMARY:Faculty PD
DESCRIPTION:
URL:https://bethanyschool.org/event/faculty-pd-3/
END:VEVENT
BEGIN:VEVENT
DTSTART;VALUE=DATE:20241010
DTEND;VALUE=DATE:20241011
DTSTAMP:20260420T042230
CREATED:20240911T134126Z
LAST-MODIFIED:20241010T153922Z
UID:6874-1728518400-1728604799@bethanyschool.org
SUMMARY:No School
DESCRIPTION:
URL:https://bethanyschool.org/event/no-school-13/
END:VEVENT
BEGIN:VEVENT
DTSTART;TZID=America/New_York:20241009T090000
DTEND;TZID=America/New_York:20241009T190000
DTSTAMP:20260420T042230
CREATED:20240911T134125Z
LAST-MODIFIED:20241009T153907Z
UID:6871-1728464400-1728500400@bethanyschool.org
SUMMARY:Parent /Teacher Conferences
DESCRIPTION:
URL:https://bethanyschool.org/event/parent-teacher-conferences-2/
END:VEVENT
BEGIN:VEVENT
DTSTART;VALUE=DATE:20241009
DTEND;VALUE=DATE:20241010
DTSTAMP:20260420T042230
CREATED:20240911T134125Z
LAST-MODIFIED:20241009T153907Z
UID:6869-1728432000-1728518399@bethanyschool.org
SUMMARY:No School
DESCRIPTION:
URL:https://bethanyschool.org/event/no-school-11/
END:VEVENT
BEGIN:VEVENT
DTSTART;TZID=America/New_York:20241008T080500
DTEND;TZID=America/New_York:20241008T084500
DTSTAMP:20260420T042230
CREATED:20240911T134125Z
LAST-MODIFIED:20241007T152336Z
UID:6868-1728374700-1728377100@bethanyschool.org
SUMMARY:Gr K-4 Chapel in Chapel of Transfiguration
DESCRIPTION:
URL:https://bethanyschool.org/event/gr-k-4-chapel-in-chapel-of-transfiguration-19/
END:VEVENT
BEGIN:VEVENT
DTSTART;VALUE=DATE:20241008
DTEND;VALUE=DATE:20241009
DTSTAMP:20260420T042230
CREATED:20240911T134125Z
LAST-MODIFIED:20241008T152406Z
UID:6870-1728345600-1728431999@bethanyschool.org
SUMMARY:Gr 8 Shadow Day
DESCRIPTION:
URL:https://bethanyschool.org/event/gr-8-shadow-day-2/
END:VEVENT
BEGIN:VEVENT
DTSTART;TZID=America/New_York:20241007T151500
DTEND;TZID=America/New_York:20241007T160000
DTSTAMP:20260420T042230
CREATED:20240911T134125Z
LAST-MODIFIED:20241007T152336Z
UID:6867-1728314100-1728316800@bethanyschool.org
SUMMARY:Bethany Singers (Gr. 2nd-8th)
DESCRIPTION:
URL:https://bethanyschool.org/event/bethany-singers-gr-2nd-8th-4/
END:VEVENT
BEGIN:VEVENT
DTSTART;TZID=America/New_York:20241007T150000
DTEND;TZID=America/New_York:20241007T163000
DTSTAMP:20260420T042230
CREATED:20240911T134125Z
LAST-MODIFIED:20241007T152336Z
UID:6866-1728313200-1728318600@bethanyschool.org
SUMMARY:Girls on the Run (Gr. 3-5th)
DESCRIPTION:
URL:https://bethanyschool.org/event/girls-on-the-run-gr-3-5th-8/
END:VEVENT
BEGIN:VEVENT
DTSTART;TZID=America/New_York:20241007T100000
DTEND;TZID=America/New_York:20241007T130000
DTSTAMP:20260420T042230
CREATED:20240911T134125Z
LAST-MODIFIED:20241007T152336Z
UID:6865-1728295200-1728306000@bethanyschool.org
SUMMARY:Gr. 2 Field Trip- Sharon Woods
DESCRIPTION:
URL:https://bethanyschool.org/event/gr-2-field-trip-sharon-woods/
END:VEVENT
BEGIN:VEVENT
DTSTART;VALUE=DATE:20241007
DTEND;VALUE=DATE:20241008
DTSTAMP:20260420T042230
CREATED:20240911T134124Z
LAST-MODIFIED:20241007T152336Z
UID:6864-1728259200-1728345599@bethanyschool.org
SUMMARY:Character Monday
DESCRIPTION:
URL:https://bethanyschool.org/event/character-monday-5/
END:VEVENT
BEGIN:VEVENT
DTSTART;TZID=America/New_York:20241004T134200
DTEND;TZID=America/New_York:20241004T144400
DTSTAMP:20260420T042230
CREATED:20240911T134124Z
LAST-MODIFIED:20240923T143906Z
UID:6861-1728049320-1728053040@bethanyschool.org
SUMMARY:Pet Blessing
DESCRIPTION:
URL:https://bethanyschool.org/event/pet-blessing/
END:VEVENT
BEGIN:VEVENT
DTSTART;VALUE=DATE:20241004
DTEND;VALUE=DATE:20241005
DTSTAMP:20260420T042230
CREATED:20240928T145504Z
LAST-MODIFIED:20241004T145742Z
UID:7183-1728000000-1728086399@bethanyschool.org
SUMMARY:Aimsweb Testing gr. 1-4
DESCRIPTION:
URL:https://bethanyschool.org/event/aimsweb-testing-gr-1-4-4/
END:VEVENT
BEGIN:VEVENT
DTSTART;VALUE=DATE:20241004
DTEND;VALUE=DATE:20241005
DTSTAMP:20260420T042230
CREATED:20240911T134124Z
LAST-MODIFIED:20240911T134144Z
UID:6862-1728000000-1728086399@bethanyschool.org
SUMMARY:C Day
DESCRIPTION:
URL:https://bethanyschool.org/event/c-day/
END:VEVENT
BEGIN:VEVENT
DTSTART;VALUE=DATE:20241004
DTEND;VALUE=DATE:20241005
DTSTAMP:20260420T042230
CREATED:20240911T134124Z
LAST-MODIFIED:20241004T145742Z
UID:6863-1728000000-1728086399@bethanyschool.org
SUMMARY:Bethany Spirit Wear (Bethany spirit wear top and uniform bottoms)
DESCRIPTION:
URL:https://bethanyschool.org/event/bethany-spirit-wear-bethany-spirit-wear-top-and-uniform-bottoms-30/
END:VEVENT
BEGIN:VEVENT
DTSTART;TZID=America/New_York:20241003T150000
DTEND;TZID=America/New_York:20241003T160000
DTSTAMP:20260420T042230
CREATED:20240911T134124Z
LAST-MODIFIED:20241003T145336Z
UID:6859-1727967600-1727971200@bethanyschool.org
SUMMARY:AI Creative Club ( Gr. 4-6th)
DESCRIPTION:
URL:https://bethanyschool.org/event/ai-creative-club-gr-4-6th-4/
END:VEVENT
BEGIN:VEVENT
DTSTART;TZID=America/New_York:20241003T150000
DTEND;TZID=America/New_York:20241003T160000
DTSTAMP:20260420T042230
CREATED:20240911T134124Z
LAST-MODIFIED:20241003T145336Z
UID:6860-1727967600-1727971200@bethanyschool.org
SUMMARY:Chess Club (Gr. 2-8th)
DESCRIPTION:
URL:https://bethanyschool.org/event/chess-club-gr-2-8th-4/
END:VEVENT
END:VCALENDAR