BEGIN:VCALENDAR
VERSION:2.0
PRODID:-//Bethany School - ECPv6.15.20//NONSGML v1.0//EN
CALSCALE:GREGORIAN
METHOD:PUBLISH
X-WR-CALNAME:Bethany School
X-ORIGINAL-URL:https://bethanyschool.org
X-WR-CALDESC:Events for Bethany School
REFRESH-INTERVAL;VALUE=DURATION:PT1H
X-Robots-Tag:noindex
X-PUBLISHED-TTL:PT1H
BEGIN:VTIMEZONE
TZID:America/New_York
BEGIN:DAYLIGHT
TZOFFSETFROM:-0500
TZOFFSETTO:-0400
TZNAME:EDT
DTSTART:20230312T070000
END:DAYLIGHT
BEGIN:STANDARD
TZOFFSETFROM:-0400
TZOFFSETTO:-0500
TZNAME:EST
DTSTART:20231105T060000
END:STANDARD
BEGIN:DAYLIGHT
TZOFFSETFROM:-0500
TZOFFSETTO:-0400
TZNAME:EDT
DTSTART:20240310T070000
END:DAYLIGHT
BEGIN:STANDARD
TZOFFSETFROM:-0400
TZOFFSETTO:-0500
TZNAME:EST
DTSTART:20241103T060000
END:STANDARD
BEGIN:DAYLIGHT
TZOFFSETFROM:-0500
TZOFFSETTO:-0400
TZNAME:EDT
DTSTART:20250309T070000
END:DAYLIGHT
BEGIN:STANDARD
TZOFFSETFROM:-0400
TZOFFSETTO:-0500
TZNAME:EST
DTSTART:20251102T060000
END:STANDARD
END:VTIMEZONE
BEGIN:VEVENT
DTSTART;TZID=America/New_York:20241004T134200
DTEND;TZID=America/New_York:20241004T144400
DTSTAMP:20260420T005002
CREATED:20240911T134124Z
LAST-MODIFIED:20240923T143906Z
UID:6861-1728049320-1728053040@bethanyschool.org
SUMMARY:Pet Blessing
DESCRIPTION:
URL:https://bethanyschool.org/event/pet-blessing/
END:VEVENT
BEGIN:VEVENT
DTSTART;VALUE=DATE:20241004
DTEND;VALUE=DATE:20241005
DTSTAMP:20260420T005002
CREATED:20240928T145504Z
LAST-MODIFIED:20241004T145742Z
UID:7183-1728000000-1728086399@bethanyschool.org
SUMMARY:Aimsweb Testing gr. 1-4
DESCRIPTION:
URL:https://bethanyschool.org/event/aimsweb-testing-gr-1-4-4/
END:VEVENT
BEGIN:VEVENT
DTSTART;VALUE=DATE:20241004
DTEND;VALUE=DATE:20241005
DTSTAMP:20260420T005002
CREATED:20240911T134124Z
LAST-MODIFIED:20240911T134144Z
UID:6862-1728000000-1728086399@bethanyschool.org
SUMMARY:C Day
DESCRIPTION:
URL:https://bethanyschool.org/event/c-day/
END:VEVENT
BEGIN:VEVENT
DTSTART;VALUE=DATE:20241004
DTEND;VALUE=DATE:20241005
DTSTAMP:20260420T005002
CREATED:20240911T134124Z
LAST-MODIFIED:20241004T145742Z
UID:6863-1728000000-1728086399@bethanyschool.org
SUMMARY:Bethany Spirit Wear (Bethany spirit wear top and uniform bottoms)
DESCRIPTION:
URL:https://bethanyschool.org/event/bethany-spirit-wear-bethany-spirit-wear-top-and-uniform-bottoms-30/
END:VEVENT
BEGIN:VEVENT
DTSTART;TZID=America/New_York:20241003T150000
DTEND;TZID=America/New_York:20241003T160000
DTSTAMP:20260420T005002
CREATED:20240911T134124Z
LAST-MODIFIED:20241003T145336Z
UID:6859-1727967600-1727971200@bethanyschool.org
SUMMARY:AI Creative Club ( Gr. 4-6th)
DESCRIPTION:
URL:https://bethanyschool.org/event/ai-creative-club-gr-4-6th-4/
END:VEVENT
BEGIN:VEVENT
DTSTART;TZID=America/New_York:20241003T150000
DTEND;TZID=America/New_York:20241003T160000
DTSTAMP:20260420T005002
CREATED:20240911T134124Z
LAST-MODIFIED:20241003T145336Z
UID:6860-1727967600-1727971200@bethanyschool.org
SUMMARY:Chess Club (Gr. 2-8th)
DESCRIPTION:
URL:https://bethanyschool.org/event/chess-club-gr-2-8th-4/
END:VEVENT
BEGIN:VEVENT
DTSTART;TZID=America/New_York:20241003T084500
DTEND;TZID=America/New_York:20241003T143000
DTSTAMP:20260420T005002
CREATED:20240911T134123Z
LAST-MODIFIED:20241003T145336Z
UID:6857-1727945100-1727965800@bethanyschool.org
SUMMARY:Gr. 6 Field Trip-Tom's Maze
DESCRIPTION:
URL:https://bethanyschool.org/event/gr-6-field-trip-toms-maze/
END:VEVENT
BEGIN:VEVENT
DTSTART;TZID=America/New_York:20241003T080500
DTEND;TZID=America/New_York:20241003T084500
DTSTAMP:20260420T005002
CREATED:20240911T134123Z
LAST-MODIFIED:20241002T145504Z
UID:6858-1727942700-1727945100@bethanyschool.org
SUMMARY:Gr 5-8 Chapel in Chapel of Transfiguration
DESCRIPTION:
URL:https://bethanyschool.org/event/gr-5-8-chapel-in-chapel-of-transfiguration-17/
END:VEVENT
BEGIN:VEVENT
DTSTART;TZID=America/New_York:20241003T071500
DTEND;TZID=America/New_York:20241003T075500
DTSTAMP:20260420T005002
CREATED:20240911T134123Z
LAST-MODIFIED:20241002T145504Z
UID:6856-1727939700-1727942100@bethanyschool.org
SUMMARY:Handbells (Gr. 5-8th)
DESCRIPTION:
URL:https://bethanyschool.org/event/handbells-gr-5-8th-4/
END:VEVENT
BEGIN:VEVENT
DTSTART;VALUE=DATE:20241003
DTEND;VALUE=DATE:20241004
DTSTAMP:20260420T005002
CREATED:20240928T145504Z
LAST-MODIFIED:20241003T145336Z
UID:7184-1727913600-1727999999@bethanyschool.org
SUMMARY:Aimsweb Testing gr. 1-4
DESCRIPTION:
URL:https://bethanyschool.org/event/aimsweb-testing-gr-1-4-5/
END:VEVENT
BEGIN:VEVENT
DTSTART;TZID=America/New_York:20241002T150000
DTEND;TZID=America/New_York:20241002T163000
DTSTAMP:20260420T005002
CREATED:20240911T134123Z
LAST-MODIFIED:20241002T145503Z
UID:6855-1727881200-1727886600@bethanyschool.org
SUMMARY:Girls on the Run (Gr. 3-5th)
DESCRIPTION:
URL:https://bethanyschool.org/event/girls-on-the-run-gr-3-5th-7/
END:VEVENT
BEGIN:VEVENT
DTSTART;TZID=America/New_York:20241002T150000
DTEND;TZID=America/New_York:20241002T160000
DTSTAMP:20260420T005002
CREATED:20240911T134123Z
LAST-MODIFIED:20241002T145504Z
UID:6853-1727881200-1727884800@bethanyschool.org
SUMMARY:Music Production (Gr. 5-8th)
DESCRIPTION:
URL:https://bethanyschool.org/event/music-production-gr-5-8th-4/
END:VEVENT
BEGIN:VEVENT
DTSTART;TZID=America/New_York:20241002T150000
DTEND;TZID=America/New_York:20241002T160000
DTSTAMP:20260420T005002
CREATED:20240911T134123Z
LAST-MODIFIED:20241002T145504Z
UID:6854-1727881200-1727884800@bethanyschool.org
SUMMARY:Karate Club (Gr. K-8)
DESCRIPTION:
URL:https://bethanyschool.org/event/karate-club-gr-k-8-4/
END:VEVENT
BEGIN:VEVENT
DTSTART;TZID=America/New_York:20241002T150000
DTEND;TZID=America/New_York:20241002T160000
DTSTAMP:20260420T005002
CREATED:20240911T134122Z
LAST-MODIFIED:20241002T145504Z
UID:6852-1727881200-1727884800@bethanyschool.org
SUMMARY:Power of the Pen (Gr. 6-8th)
DESCRIPTION:
URL:https://bethanyschool.org/event/power-of-the-pen-gr-6-8th-3/
END:VEVENT
BEGIN:VEVENT
DTSTART;VALUE=DATE:20241002
DTEND;VALUE=DATE:20241003
DTSTAMP:20260420T005002
CREATED:20240928T145502Z
LAST-MODIFIED:20241002T145503Z
UID:7180-1727827200-1727913599@bethanyschool.org
SUMMARY:Aimsweb Testing gr. 1-4
DESCRIPTION:
URL:https://bethanyschool.org/event/aimsweb-testing-gr-1-4/
END:VEVENT
BEGIN:VEVENT
DTSTART;TZID=America/New_York:20241001T080500
DTEND;TZID=America/New_York:20241001T084500
DTSTAMP:20260420T005002
CREATED:20240911T134122Z
LAST-MODIFIED:20240930T145432Z
UID:6851-1727769900-1727772300@bethanyschool.org
SUMMARY:Gr K-4 Chapel in Chapel of Transfiguration
DESCRIPTION:
URL:https://bethanyschool.org/event/gr-k-4-chapel-in-chapel-of-transfiguration-18/
END:VEVENT
BEGIN:VEVENT
DTSTART;VALUE=DATE:20241001
DTEND;VALUE=DATE:20241002
DTSTAMP:20260420T005002
CREATED:20240928T145502Z
LAST-MODIFIED:20240930T145431Z
UID:7181-1727740800-1727827199@bethanyschool.org
SUMMARY:Aimsweb Testing gr. 1-4
DESCRIPTION:
URL:https://bethanyschool.org/event/aimsweb-testing-gr-1-4-2/
END:VEVENT
BEGIN:VEVENT
DTSTART;TZID=America/New_York:20240930T151500
DTEND;TZID=America/New_York:20240930T160000
DTSTAMP:20260420T005002
CREATED:20240911T134122Z
LAST-MODIFIED:20240930T145432Z
UID:6849-1727709300-1727712000@bethanyschool.org
SUMMARY:Bethany Singers (Gr. 2nd-8th)
DESCRIPTION:
URL:https://bethanyschool.org/event/bethany-singers-gr-2nd-8th-3/
END:VEVENT
BEGIN:VEVENT
DTSTART;TZID=America/New_York:20240930T150000
DTEND;TZID=America/New_York:20240930T163000
DTSTAMP:20260420T005002
CREATED:20240911T134122Z
LAST-MODIFIED:20240930T145432Z
UID:6850-1727708400-1727713800@bethanyschool.org
SUMMARY:Girls on the Run (Gr. 3-5th)
DESCRIPTION:
URL:https://bethanyschool.org/event/girls-on-the-run-gr-3-5th-6/
END:VEVENT
BEGIN:VEVENT
DTSTART;VALUE=DATE:20240930
DTEND;VALUE=DATE:20241001
DTSTAMP:20260420T005002
CREATED:20240928T145502Z
LAST-MODIFIED:20240930T145431Z
UID:7182-1727654400-1727740799@bethanyschool.org
SUMMARY:Aimsweb Testing gr. 1-4
DESCRIPTION:
URL:https://bethanyschool.org/event/aimsweb-testing-gr-1-4-3/
END:VEVENT
BEGIN:VEVENT
DTSTART;VALUE=DATE:20240927
DTEND;VALUE=DATE:20240928
DTSTAMP:20260420T005002
CREATED:20240911T134122Z
LAST-MODIFIED:20240927T145338Z
UID:6848-1727395200-1727481599@bethanyschool.org
SUMMARY:Bethany Spirit Wear (Bethany spirit wear top and uniform bottoms)
DESCRIPTION:
URL:https://bethanyschool.org/event/bethany-spirit-wear-bethany-spirit-wear-top-and-uniform-bottoms-29/
END:VEVENT
BEGIN:VEVENT
DTSTART;TZID=America/New_York:20240926T190000
DTEND;TZID=America/New_York:20240926T200000
DTSTAMP:20260420T005002
CREATED:20240911T134121Z
LAST-MODIFIED:20240926T143955Z
UID:6846-1727377200-1727380800@bethanyschool.org
SUMMARY:High School Fair
DESCRIPTION:When it comes to selecting a high school\, it’s never too early to start thinking about your options. You are invited to connect with the admissions teams from Cincinnati’s premier high schools and explore which one would be the perfect fit for your family’s needs. Begin your journey towards finding the best high school for your future. \nThe High School Fair will be held at the Bethany School Athletic Center located at 370 Oak Road\, Cincinnati\, OH. Please look for the 3-8th grade drop-off signs to guide you to the parking lot adjacent to the BAC. \nHigh Schools Participating: \n\nBadin High School\nCincinnati Country Day School\nCulver Academies\nDePaul Cristo Rey High School\nLa Salle High School\nMercy McAuley High School\nMoeller High School\nMount Notre Dame\nPurcell Marian\nRoger Bacon High School\nSaint Ursula Academy\nSt. Xavier\nSeven Hills School\nThe Summit Country Day School\nUrsuline Academy\n\nCLICK HERE TO REGISTER: https://form.jotform.com/232405620297150
URL:https://bethanyschool.org/event/high-school-fair/
LOCATION:Hilaritas-1-BAC (250)
END:VEVENT
BEGIN:VEVENT
DTSTART;TZID=America/New_York:20240926T150000
DTEND;TZID=America/New_York:20240926T160000
DTSTAMP:20260420T005002
CREATED:20240911T134121Z
LAST-MODIFIED:20240926T143955Z
UID:6844-1727362800-1727366400@bethanyschool.org
SUMMARY:Chess Club (Gr. 2-8th)
DESCRIPTION:
URL:https://bethanyschool.org/event/chess-club-gr-2-8th-3/
END:VEVENT
BEGIN:VEVENT
DTSTART;TZID=America/New_York:20240926T150000
DTEND;TZID=America/New_York:20240926T160000
DTSTAMP:20260420T005002
CREATED:20240911T134121Z
LAST-MODIFIED:20240926T143955Z
UID:6845-1727362800-1727366400@bethanyschool.org
SUMMARY:AI Creative Club ( Gr. 4-6th)
DESCRIPTION:
URL:https://bethanyschool.org/event/ai-creative-club-gr-4-6th-3/
END:VEVENT
BEGIN:VEVENT
DTSTART;TZID=America/New_York:20240926T093000
DTEND;TZID=America/New_York:20240926T103000
DTSTAMP:20260420T005002
CREATED:20240911T134121Z
LAST-MODIFIED:20240925T143941Z
UID:6843-1727343000-1727346600@bethanyschool.org
SUMMARY:All School Chapel (St. Michael)
DESCRIPTION:
URL:https://bethanyschool.org/event/all-school-chapel-st-michael/
LOCATION:Hilaritas-1-BAC (250)
END:VEVENT
BEGIN:VEVENT
DTSTART;TZID=America/New_York:20240926T080500
DTEND;TZID=America/New_York:20240926T084500
DTSTAMP:20260420T005002
CREATED:20240911T134121Z
LAST-MODIFIED:20240925T143940Z
UID:6842-1727337900-1727340300@bethanyschool.org
SUMMARY:No Gr 5-8 Chapel in Chapel of Transfiguration
DESCRIPTION:
URL:https://bethanyschool.org/event/no-gr-5-8-chapel-in-chapel-of-transfiguration-4/
END:VEVENT
BEGIN:VEVENT
DTSTART;TZID=America/New_York:20240926T071500
DTEND;TZID=America/New_York:20240926T075500
DTSTAMP:20260420T005002
CREATED:20240911T134121Z
LAST-MODIFIED:20240925T143940Z
UID:6841-1727334900-1727337300@bethanyschool.org
SUMMARY:Handbells (Gr. 5-8th)
DESCRIPTION:
URL:https://bethanyschool.org/event/handbells-gr-5-8th-3/
END:VEVENT
BEGIN:VEVENT
DTSTART;VALUE=DATE:20240926
DTEND;VALUE=DATE:20240927
DTSTAMP:20260420T005002
CREATED:20240911T134122Z
LAST-MODIFIED:20240918T141026Z
UID:6847-1727308800-1727395199@bethanyschool.org
SUMMARY:B Day
DESCRIPTION:
URL:https://bethanyschool.org/event/b-day/
END:VEVENT
BEGIN:VEVENT
DTSTART;TZID=America/New_York:20240925T150000
DTEND;TZID=America/New_York:20240925T163000
DTSTAMP:20260420T005002
CREATED:20240911T134120Z
LAST-MODIFIED:20240925T143940Z
UID:6837-1727276400-1727281800@bethanyschool.org
SUMMARY:Girls on the Run (Gr. 3-5th)
DESCRIPTION:
URL:https://bethanyschool.org/event/girls-on-the-run-gr-3-5th-5/
END:VEVENT
BEGIN:VEVENT
DTSTART;TZID=America/New_York:20240925T150000
DTEND;TZID=America/New_York:20240925T160000
DTSTAMP:20260420T005002
CREATED:20240911T134120Z
LAST-MODIFIED:20240925T143940Z
UID:6838-1727276400-1727280000@bethanyschool.org
SUMMARY:Power of the Pen (Gr. 6-8th)
DESCRIPTION:
URL:https://bethanyschool.org/event/power-of-the-pen-gr-6-8th-2/
END:VEVENT
END:VCALENDAR